BEGIN:VCALENDAR
VERSION:2.0
PRODID:-//ADIPA - ECPv6.15.19//NONSGML v1.0//EN
CALSCALE:GREGORIAN
METHOD:PUBLISH
X-ORIGINAL-URL:https://adipa.dk
X-WR-CALDESC:Begivenheder for ADIPA
REFRESH-INTERVAL;VALUE=DURATION:PT1H
X-Robots-Tag:noindex
X-PUBLISHED-TTL:PT1H
BEGIN:VTIMEZONE
TZID:Europe/Copenhagen
BEGIN:DAYLIGHT
TZOFFSETFROM:+0100
TZOFFSETTO:+0200
TZNAME:CEST
DTSTART:20240331T010000
END:DAYLIGHT
BEGIN:STANDARD
TZOFFSETFROM:+0200
TZOFFSETTO:+0100
TZNAME:CET
DTSTART:20241027T010000
END:STANDARD
BEGIN:DAYLIGHT
TZOFFSETFROM:+0100
TZOFFSETTO:+0200
TZNAME:CEST
DTSTART:20250330T010000
END:DAYLIGHT
BEGIN:STANDARD
TZOFFSETFROM:+0200
TZOFFSETTO:+0100
TZNAME:CET
DTSTART:20251026T010000
END:STANDARD
BEGIN:DAYLIGHT
TZOFFSETFROM:+0100
TZOFFSETTO:+0200
TZNAME:CEST
DTSTART:20260329T010000
END:DAYLIGHT
BEGIN:STANDARD
TZOFFSETFROM:+0200
TZOFFSETTO:+0100
TZNAME:CET
DTSTART:20261025T010000
END:STANDARD
BEGIN:DAYLIGHT
TZOFFSETFROM:+0100
TZOFFSETTO:+0200
TZNAME:CEST
DTSTART:20270328T010000
END:DAYLIGHT
BEGIN:STANDARD
TZOFFSETFROM:+0200
TZOFFSETTO:+0100
TZNAME:CET
DTSTART:20271031T010000
END:STANDARD
END:VTIMEZONE
BEGIN:VEVENT
DTSTART;VALUE=DATE:20260528
DTEND;VALUE=DATE:20260530
DTSTAMP:20260425T174824
CREATED:20251010T081243Z
LAST-MODIFIED:20251010T081243Z
UID:24856040-1779926400-1780099199@adipa.dk
SUMMARY:IP-rettens Dag 2026
DESCRIPTION:IP-rettens Dag 2026 – sæt X i kalenderen! \nDen 28. maj 2026 mødes IP-fællesskabet i Charlottehaven på Østerbro i København til en dag med skarpe indsigter og aktuelle temaer om IP og forretning. \nProgram og tilmelding til konferencen følger i kommende nyhedsbreve – glæd dig! \n 
URL:https://adipa.dk/ip-kalenderen/ip-rettens-dag-2026/
CATEGORIES:Kalender 2025
END:VEVENT
BEGIN:VEVENT
DTSTART;VALUE=DATE:20251209
DTEND;VALUE=DATE:20251210
DTSTAMP:20260425T174824
CREATED:20251203T213714Z
LAST-MODIFIED:20251203T213819Z
UID:24856064-1765238400-1765324799@adipa.dk
SUMMARY:Young FIR Advisory Board er vært for årets sidste FIR morgenmøde
DESCRIPTION:Young FIR Advisory Board afholder årets sidste FIR morgenmøde\, der for første gang finder sted i de flotte og historiske lokaler på Christiansborg. Udover\, at der er et spændende emne på programmet\, herunder navnlig “Immaterielle rettigheder under den foranderlige geopolitiske situation”\, vil mødet også byde på en lille rundvisning på Borgen og en let morgenmad fra Snapstinget. \nDato: Tirsdag den 9. december 2025 \nTidspunkt: Kl. 8:15 – 11:00 \nProgram: \nKl. 08:15 – 08:30: Ankomst i besøgsindgangen til Christiansborg (ved den store trappe i Rigsdagsgården) \nKl. 8:30 – 09:15: Netværk og let morgenmad fra Snapstinget \nKl. 09:15 – 09:45 Rundvisning på Christiansborg \nKl. 09:45 – 10:45: Panelsnak om “Immaterielle rettigheder under den foranderlige geopolitiske situation” – Moderator: Young FIR Advisory Board \n  \nI panelsnakken deltager professor i immaterialret ved det Juridiske Fakultet på Københavns Universitet\, Jens Schovsbo\, samt to folketingsmedlemmer fra henholdsvis Venstre og Det Konservative Folkeparti\, som sammen vil drøfte og tage os med i\, hvordan geopolitiske strømninger kan påvirke IP-rettigheder og den teknologiske udvikling i Norden\, særligt når forsvar er i højsædet og der investeres i en ny teknologi og samarbejder på tværs.
URL:https://adipa.dk/ip-kalenderen/young-fir-advisory-board-er-vaert-for-aarets-sidste-fir-morgenmoede/
CATEGORIES:Kalender 2025
END:VEVENT
BEGIN:VEVENT
DTSTART;VALUE=DATE:20260924
DTEND;VALUE=DATE:20260925
DTSTAMP:20260425T174824
CREATED:20260303T181055Z
LAST-MODIFIED:20260420T104606Z
UID:24856117-1790208000-1790294399@adipa.dk
SUMMARY:Sensommermøde - i år fejrer ADIPA 125 års jubilæum
DESCRIPTION:Kære medlemmer \nADIPA fylder 125 år og afholder i den forbindelse Jubilæumsfest den 24. september 2026.\nI kan derfor allerede nu sætte kryds i kalenderen og glæde jer til en underholdende eftermiddag! \nJubilæumsfesten bliver afholdt på Moltkes Palæ\, Dronningens Tværgade 2\, 1302 København K. \nDen egentlige invitation samt nærmere info om arrangementet udsendes så snart de sidste detaljer er på plads.
URL:https://adipa.dk/ip-kalenderen/sensommermoede-forventes-afholdt-september-2026/
CATEGORIES:Kalender 2026
END:VEVENT
BEGIN:VEVENT
DTSTART;TZID=Europe/Copenhagen:20261201T080000
DTEND;TZID=Europe/Copenhagen:20261201T170000
DTSTAMP:20260425T174824
CREATED:20250101T171526Z
LAST-MODIFIED:20251010T081751Z
UID:24854294-1796112000-1796144400@adipa.dk
SUMMARY:Obligatorisk kursus (OBS: Forventes afholdt cirka december 2026)
DESCRIPTION:Mere info følger (Obligatorisk kursus blev senest afholdt december 2023)
URL:https://adipa.dk/ip-kalenderen/obligatorisk-kursus-2026/
CATEGORIES:Kalender 2026
END:VEVENT
END:VCALENDAR